View In:
ArcGIS JavaScript
ArcGIS Online Map Viewer
ArcGIS Earth
Service Description: Geology/Aeromag_2025field
Name: Geology/Aeromag_2025field
Description:
Single Fused Map Cache: true
Tile Info:
- Height: 256
- Width: 256
- DPI: 96
-
Levels of Detail: 19
-
Level ID: 0
[ Start Tile, End Tile ]
- Resolution: 930768.0021770636
- Scale: 1.0722468830017433E9
-
Level ID: 1
[ Start Tile, End Tile ]
- Resolution: 465384.0010885318
- Scale: 5.3612344150087166E8
-
Level ID: 2
[ Start Tile, End Tile ]
- Resolution: 232692.0005442659
- Scale: 2.6806172075043583E8
-
Level ID: 3
[ Start Tile, End Tile ]
- Resolution: 116346.00027213295
- Scale: 1.3403086037521791E8
-
Level ID: 4
[ Start Tile, End Tile ]
- Resolution: 58173.000136066476
- Scale: 6.701543018760896E7
-
Level ID: 5
[ Start Tile, End Tile ]
- Resolution: 29086.500068033238
- Scale: 3.350771509380448E7
-
Level ID: 6
[ Start Tile, End Tile ]
- Resolution: 14543.250034016619
- Scale: 1.675385754690224E7
-
Level ID: 7
[ Start Tile, End Tile ]
- Resolution: 7271.625017008309
- Scale: 8376928.77345112
-
Level ID: 8
[ Start Tile, End Tile ]
- Resolution: 3635.8125085041547
- Scale: 4188464.38672556
-
Level ID: 9
[ Start Tile, End Tile ]
- Resolution: 1817.9062542520774
- Scale: 2094232.19336278
-
Level ID: 10
[ Start Tile, End Tile ]
- Resolution: 908.9531271260387
- Scale: 1047116.09668139
-
Level ID: 11
[ Start Tile, End Tile ]
- Resolution: 454.47656356301934
- Scale: 523558.048340695
-
Level ID: 12
[ Start Tile, End Tile ]
- Resolution: 227.23828178150967
- Scale: 261779.0241703475
-
Level ID: 13
[ Start Tile, End Tile ]
- Resolution: 113.61914089075484
- Scale: 130889.51208517374
-
Level ID: 14
[ Start Tile, End Tile ]
- Resolution: 56.80957044537742
- Scale: 65444.75604258687
-
Level ID: 15
[ Start Tile, End Tile ]
- Resolution: 28.40478522268871
- Scale: 32722.378021293436
-
Level ID: 16
[ Start Tile, End Tile ]
- Resolution: 14.202392611344354
- Scale: 16361.189010646718
-
Level ID: 17
[ Start Tile, End Tile ]
- Resolution: 7.101196305672177
- Scale: 8180.594505323359
-
Level ID: 18
[ Start Tile, End Tile ]
- Resolution: 3.5505981528360886
- Scale: 4090.2972526616795
- Format: PNG
- Compression Quality: 0.0
- LERC Error: NaN
- Origin: X: -1.1749788761166413E8
Y: 1.1874297398445967E8
- Spatial Reference: 0
(0)
LatestVCSWkid(0)
Storage Info:
- Storage Format: esriMapCacheStorageModeCompactV2
- Packet Size: 128
Extent:
XMin: 1726984.6267808713
YMin: 190572.04342277133
XMax: 1854102.1837314274
YMax: 302951.3329007991
Spatial Reference: 0
(0)
LatestVCSWkid(0)
Initial Extent:
XMin: 1726984.6267808713
YMin: 190572.04342277133
XMax: 1854102.1837314274
YMax: 302951.3329007991
Spatial Reference: 0
(0)
LatestVCSWkid(0)
Full Extent:
XMin: 1726984.6267808713
YMin: 190572.04342277133
XMax: 1854102.1837314274
YMax: 302951.3329007991
Spatial Reference: 0
(0)
LatestVCSWkid(0)
Pixel Size X: 1842.2834340660306
Pixel Size Y: 1842.2834340660293
Band Count: 1
Pixel Type: F32
RasterFunction Infos: {"rasterFunctionInfos": [{
"name": "None",
"description": "",
"help": ""
}]}
Mensuration Capabilities: Basic
Inspection Capabilities:
Has Histograms: true
Has Colormap: false
Has Multi Dimensions : false
Rendering Rule:
Min Scale: 2094232.19336278
Max Scale: 8180.594505323359
Min LOD: 9
Max LOD: 17
Copyright Text:
Service Data Type: esriImageServiceDataTypeGeneric
Min Values: -3.4028234663853E38
Max Values: 271.1657409668
Mean Values: -3.233854565346E35
Standard Deviation Values: 1.0486367806065E37
Object ID Field:
Fields:
None
Default Mosaic Method: Center
Allowed Mosaic Methods:
SortField:
SortValue: null
Mosaic Operator: First
Default Compression Quality: 75
Default Resampling Method: Bilinear
Max Record Count: null
Max Image Height: 4100
Max Image Width: 15000
Max Download Image Count: null
Max Mosaic Image Count: null
Allow Raster Function: true
Allow Copy: true
Allow Analysis: true
Allow Compute TiePoints: false
Supports Statistics: false
Supports Advanced Queries: false
Use StandardizedQueries: true
Raster Type Infos:
Name: Raster Dataset
Description: Supports all ArcGIS Raster Datasets
Help:
Has Raster Attribute Table: false
Edit Fields Info: null
Ownership Based AccessControl For Rasters: null
Child Resources:
Info
Histograms
Statistics
Key Properties
Legend
Raster Function Infos
Supported Operations:
Export Image
Identify
Measure
Compute Histograms
Compute Statistics Histograms
Get Samples
Compute Class Statistics
Query Boundary
Compute Pixel Location
Compute Angles
Validate
Project
EstimateExportTilesSize
ExportTiles