View In:
  ArcGIS JavaScript
  ArcGIS Online Map Viewer
  ArcGIS Earth
Service Description:  Aquatics/WA_bathymetry_CoNED_MLLW
Name:  Aquatics/WA_bathymetry_CoNED_MLLW
Description:  
Single Fused Map Cache:  false
Extent: 
XMin: 164401.32626567216
YMin: 189046.13700328115
XMax: 377393.32626567216
YMax: 418422.13700328115
Spatial Reference: 102349
 (2856)
 VCSWkid(5703)
 LatestVCSWkid(5703)
Initial Extent: 
XMin: 164401.32626567216
YMin: 189046.13700328115
XMax: 377393.32626567216
YMax: 418422.13700328115
Spatial Reference: 102349
 (2856)
 VCSWkid(5703)
 LatestVCSWkid(5703)
Full Extent: 
XMin: 164401.32626567216
YMin: 189046.13700328115
XMax: 377393.32626567216
YMax: 418422.13700328115
Spatial Reference: 102349
 (2856)
 VCSWkid(5703)
 LatestVCSWkid(5703)
Pixel Size X:  1.0
Pixel Size Y:  1.0
Band Count: 1
Pixel Type: F32
RasterFunction Infos:  {"rasterFunctionInfos": [
 {
  "name": "None",
  "description": "Make a Raster or Raster Dataset into a Function Raster Dataset.",
  "help": ""
 },
 {
  "name": "bathy_full_range",
  "description": "Raster function template that applies color ramp across full depth range in bathymetry raster dataset containing 32-bit floating point values.",
  "help": ""
 },
 {
  "name": "bathy_top50m",
  "description": "This raster function template applies coloramp to the top 50 meters of a bathymetry raster with 32bit floating point values.",
  "help": ""
 },
 {
  "name": "bathy_top100m",
  "description": "This raster function template applies a coloramp to the top 100m in a bathymetry raster dataset with 32-bit floating point values.",
  "help": ""
 }
]}
Mensuration Capabilities: NONE
Inspection Capabilities: 
Has Histograms:  true
Has Colormap:  false
Has Multi Dimensions :  false
Rendering Rule: 
Min Scale:  0
Max Scale:  0
Copyright Text:  
Service Data Type:  esriImageServiceDataTypeGeneric
Min Values:  -364.8753967285156
Max Values:  10
Mean Values:  -85.91742282517308
Standard Deviation Values:  72.52057345266896
Object ID Field:  OBJECTID
Fields: 
- 
OBJECTID
(
type: esriFieldTypeOID, alias: OBJECTID
)
 
- 
Shape
(
type: esriFieldTypeGeometry, alias: Shape
)
 
- 
Name
(
type: esriFieldTypeString, alias: Name, length: 200
)
 
- 
MinPS
(
type: esriFieldTypeDouble, alias: MinPS
)
 
- 
MaxPS
(
type: esriFieldTypeDouble, alias: MaxPS
)
 
- 
LowPS
(
type: esriFieldTypeDouble, alias: LowPS
)
 
- 
HighPS
(
type: esriFieldTypeDouble, alias: HighPS
)
 
- 
Category
(
type: esriFieldTypeInteger, alias: Category
, Coded Values: 
[0: Unknown]
, [1: Primary]
, [2: Overview]
, ...6 more...
)
 
- 
Tag
(
type: esriFieldTypeString, alias: Tag, length: 100
)
 
- 
GroupName
(
type: esriFieldTypeString, alias: GroupName, length: 100
)
 
- 
ProductName
(
type: esriFieldTypeString, alias: ProductName, length: 100
)
 
- 
CenterX
(
type: esriFieldTypeDouble, alias: CenterX
)
 
- 
CenterY
(
type: esriFieldTypeDouble, alias: CenterY
)
 
- 
ZOrder
(
type: esriFieldTypeInteger, alias: ZOrder
)
 
- 
Shape_Length
(
type: esriFieldTypeDouble, alias: Shape_Length
)
 
- 
Shape_Area
(
type: esriFieldTypeDouble, alias: Shape_Area
)
 
Default Mosaic Method:  Northwest
Allowed Mosaic Methods:  NorthWest,Center,LockRaster,ByAttribute,Nadir,Viewpoint,Seamline,None
SortField:  
SortValue:  null
Mosaic Operator:  First
Default Compression Quality:  75
Default Resampling Method:  Bilinear
Max Record Count:  1000
Max Image Height:  4100
Max Image Width:  15000
Max Download Image Count:  20
Max Mosaic Image Count:  40
Allow Raster Function:  true
Allow Copy:  true
Allow Analysis:  true
Allow Compute TiePoints:  false
Supports Statistics:  true
Supports Advanced Queries:  true
Use StandardizedQueries:  true
Raster Type Infos: 
Name: Raster Dataset
Description: Supports all ArcGIS Raster Datasets
Help: 
Has Raster Attribute Table:  false
Edit Fields Info:  null
Ownership Based AccessControl For Rasters:  null
Child Resources:
  
Info
  Histograms
  Statistics
  Key Properties
  Legend
  Raster Function Infos
Supported Operations:
  
Export Image
  Query
  Identify
  Measure
  Compute Histograms
  Compute Statistics Histograms
  Get Samples
  Compute Class Statistics
  Query GPS Info
  Find Images
  Image to Map
  Map to Image
  Measure from Image
  Image to Map Multiray
  Query Boundary
  Compute Pixel Location
  Compute Angles
  Validate
  Project