View In:
ArcGIS JavaScript
ArcGIS Online Map Viewer
ArcGIS Earth
Service Description: Aquatics/Nearshore_img__Tacoma_2022
Name: Aquatics/Nearshore_img__Tacoma_2022
Description:
Single Fused Map Cache: false
Extent:
XMin: 1115400.0
YMin: 686400.0
XMax: 1151800.0
YMax: 754000.0
Spatial Reference: 2927
(2927)
LatestVCSWkid(0)
Initial Extent:
XMin: 1115400.0
YMin: 686400.0
XMax: 1151800.0
YMax: 754000.0
Spatial Reference: 2927
(2927)
LatestVCSWkid(0)
Full Extent:
XMin: 1115400.0
YMin: 686400.0
XMax: 1151800.0
YMax: 754000.0
Spatial Reference: 2927
(2927)
LatestVCSWkid(0)
Pixel Size X: 0.5
Pixel Size Y: 0.5
Band Count: 5
Pixel Type: U8
RasterFunction Infos: {"rasterFunctionInfos": [{
"name": "None",
"description": "",
"help": ""
}]}
Mensuration Capabilities: Basic
Inspection Capabilities:
Has Histograms: true
Has Colormap: false
Has Multi Dimensions : false
Rendering Rule:
Min Scale: 0
Max Scale: 0
Copyright Text:
Service Data Type: esriImageServiceDataTypeGeneric
Min Values: 6, 18, 30, 5, 0
Max Values: 254, 254, 254, 254, 255
Mean Values: 36.000426515128, 52.459032964579, 67.999350460299, 54.260009968824, 39.708138341585
Standard Deviation Values: 34.725497581827, 30.682918319492, 24.307118927289, 69.203410803616, 92.459932009115
Object ID Field:
Fields:
None
Default Mosaic Method: Center
Allowed Mosaic Methods:
SortField:
SortValue: null
Mosaic Operator: First
Default Compression Quality: 75
Default Resampling Method: Bilinear
Max Record Count: null
Max Image Height: 4100
Max Image Width: 15000
Max Download Image Count: null
Max Mosaic Image Count: null
Allow Raster Function: true
Allow Copy: true
Allow Analysis: true
Allow Compute TiePoints: false
Supports Statistics: false
Supports Advanced Queries: false
Use StandardizedQueries: true
Raster Type Infos:
Name: Raster Dataset
Description: Supports all ArcGIS Raster Datasets
Help:
Has Raster Attribute Table: false
Edit Fields Info: null
Ownership Based AccessControl For Rasters: null
Child Resources:
Info
Histograms
Statistics
Key Properties
Legend
Raster Function Infos
Supported Operations:
Export Image
Identify
Measure
Compute Histograms
Compute Statistics Histograms
Get Samples
Compute Class Statistics
Query Boundary
Compute Pixel Location
Compute Angles
Validate
Project