View In:
ArcGIS JavaScript
ArcGIS Online Map Viewer
ArcGIS Earth
Service Description: Aquatics/Nearshore_img__OpenCoast_2022
Name: Aquatics/Nearshore_img__OpenCoast_2022
Description:
Single Fused Map Cache: false
Extent:
XMin: 593600.0
YMin: 863800.0
XMax: 682000.0
YMax: 1147200.0
Spatial Reference: 2927
(2927)
LatestVCSWkid(0)
Initial Extent:
XMin: 593600.0
YMin: 863800.0
XMax: 682000.0
YMax: 1147200.0
Spatial Reference: 2927
(2927)
LatestVCSWkid(0)
Full Extent:
XMin: 593600.0
YMin: 863800.0
XMax: 682000.0
YMax: 1147200.0
Spatial Reference: 2927
(2927)
LatestVCSWkid(0)
Pixel Size X: 0.5
Pixel Size Y: 0.5
Band Count: 5
Pixel Type: U8
RasterFunction Infos: {"rasterFunctionInfos": [{
"name": "None",
"description": "",
"help": ""
}]}
Mensuration Capabilities: Basic
Inspection Capabilities:
Has Histograms: true
Has Colormap: false
Has Multi Dimensions : false
Rendering Rule:
Min Scale: 0
Max Scale: 0
Copyright Text:
Service Data Type: esriImageServiceDataTypeGeneric
Min Values: 0, 4, 9, 0, 0
Max Values: 254, 254, 254, 254, 0
Mean Values: 32.77128204089, 58.649214747553, 73.531119268587, 24.944322057459, 0
Standard Deviation Values: 26.0891959457, 25.554477318149, 22.426728223226, 38.311154030729, 0
Object ID Field:
Fields:
None
Default Mosaic Method: Center
Allowed Mosaic Methods:
SortField:
SortValue: null
Mosaic Operator: First
Default Compression Quality: 75
Default Resampling Method: Bilinear
Max Record Count: null
Max Image Height: 4100
Max Image Width: 15000
Max Download Image Count: null
Max Mosaic Image Count: null
Allow Raster Function: true
Allow Copy: true
Allow Analysis: true
Allow Compute TiePoints: false
Supports Statistics: false
Supports Advanced Queries: false
Use StandardizedQueries: true
Raster Type Infos:
Name: Raster Dataset
Description: Supports all ArcGIS Raster Datasets
Help:
Has Raster Attribute Table: false
Edit Fields Info: null
Ownership Based AccessControl For Rasters: null
Child Resources:
Info
Histograms
Statistics
Key Properties
Legend
Raster Function Infos
Supported Operations:
Export Image
Identify
Measure
Compute Histograms
Compute Statistics Histograms
Get Samples
Compute Class Statistics
Query Boundary
Compute Pixel Location
Compute Angles
Validate
Project