View In:
  ArcGIS JavaScript
  ArcGIS Online Map Viewer
  ArcGIS Earth
Service Description:  Aquatics/Nearshore_img_SanJuanIs_2023
Name:  Aquatics/Nearshore_img_SanJuanIs_2023
Description:  
Single Fused Map Cache:  false
Extent: 
XMin: 975700.0
YMin: 1130400.0
XMax: 1103200.0
YMax: 1273400.0
Spatial Reference: 2927
 (2927)
 LatestVCSWkid(0)
Initial Extent: 
XMin: 975700.0
YMin: 1130400.0
XMax: 1103200.0
YMax: 1273400.0
Spatial Reference: 2927
 (2927)
 LatestVCSWkid(0)
Full Extent: 
XMin: 975700.0
YMin: 1130400.0
XMax: 1103200.0
YMax: 1273400.0
Spatial Reference: 2927
 (2927)
 LatestVCSWkid(0)
Pixel Size X:  0.5
Pixel Size Y:  0.5
Band Count: 5
Pixel Type: U8
RasterFunction Infos:  {"rasterFunctionInfos": [{
 "name": "None",
 "description": "",
 "help": ""
}]}
Mensuration Capabilities: Basic
Inspection Capabilities: 
Has Histograms:  true
Has Colormap:  false
Has Multi Dimensions :  false
Rendering Rule: 
Min Scale:  0
Max Scale:  0
Copyright Text:  
Service Data Type:  esriImageServiceDataTypeGeneric
Min Values:  0, 0, 0, 0, 0
Max Values:  254, 254, 254, 254, 255
Mean Values:  54.014183386177, 74.633833773452, 79.548739321699, 87.593060852035, 150.82344197552
Standard Deviation Values:  31.976715344515, 25.320960086314, 18.346909158245, 70.402699672618, 125.34858218037
Object ID Field:  
Fields: 
None
Default Mosaic Method:  Center
Allowed Mosaic Methods:  
SortField:  
SortValue:  null
Mosaic Operator:  First
Default Compression Quality:  75
Default Resampling Method:  Bilinear
Max Record Count:  null
Max Image Height:  4100
Max Image Width:  15000
Max Download Image Count:  null
Max Mosaic Image Count:  null
Allow Raster Function:  true
Allow Copy:  true
Allow Analysis:  true
Allow Compute TiePoints:  false
Supports Statistics:  false
Supports Advanced Queries:  false
Use StandardizedQueries:  true
Raster Type Infos: 
Name: Raster Dataset
Description: Supports all ArcGIS Raster Datasets
Help: 
Has Raster Attribute Table:  false
Edit Fields Info:  null
Ownership Based AccessControl For Rasters:  null
Child Resources:
  
Info
  Histograms
  Statistics
  Key Properties
  Legend
  Raster Function Infos
Supported Operations:
  
Export Image
  Identify
  Measure
  Compute Histograms
  Compute Statistics Histograms
  Get Samples
  Compute Class Statistics
  Query Boundary
  Compute Pixel Location
  Compute Angles
  Validate
  Project