View In:
ArcGIS JavaScript
ArcGIS Online Map Viewer
ArcGIS Earth
Service Description: Aquatics/Nearshore_img_EastStraitJdF_2023
Name: Aquatics/Nearshore_img_EastStraitJdF_2023
Description:
Single Fused Map Cache: false
Extent:
XMin: 848400.0
YMin: 1009900.0
XMax: 1092800.0
YMax: 1054100.0
Spatial Reference: 2927
(2927)
LatestVCSWkid(0)
Initial Extent:
XMin: 848400.0
YMin: 1009900.0
XMax: 1092800.0
YMax: 1054100.0
Spatial Reference: 2927
(2927)
LatestVCSWkid(0)
Full Extent:
XMin: 848400.0
YMin: 1009900.0
XMax: 1092800.0
YMax: 1054100.0
Spatial Reference: 2927
(2927)
LatestVCSWkid(0)
Pixel Size X: 0.5
Pixel Size Y: 0.5
Band Count: 5
Pixel Type: U8
RasterFunction Infos: {"rasterFunctionInfos": [{
"name": "None",
"description": "",
"help": ""
}]}
Mensuration Capabilities: Basic
Inspection Capabilities:
Has Histograms: true
Has Colormap: false
Has Multi Dimensions : false
Rendering Rule:
Min Scale: 0
Max Scale: 0
Copyright Text:
Service Data Type: esriImageServiceDataTypeGeneric
Min Values: 1, 12, 21, 1, 0
Max Values: 254, 254, 254, 254, 255
Mean Values: 31.849164389998, 54.153344464151, 73.340045795762, 27.0923361228, 73.853865789847
Standard Deviation Values: 24.541380532028, 22.388627742865, 18.482169812724, 37.776444732566, 115.66478411606
Object ID Field:
Fields:
None
Default Mosaic Method: Center
Allowed Mosaic Methods:
SortField:
SortValue: null
Mosaic Operator: First
Default Compression Quality: 75
Default Resampling Method: Bilinear
Max Record Count: null
Max Image Height: 4100
Max Image Width: 15000
Max Download Image Count: null
Max Mosaic Image Count: null
Allow Raster Function: true
Allow Copy: true
Allow Analysis: true
Allow Compute TiePoints: false
Supports Statistics: false
Supports Advanced Queries: false
Use StandardizedQueries: true
Raster Type Infos:
Name: Raster Dataset
Description: Supports all ArcGIS Raster Datasets
Help:
Has Raster Attribute Table: false
Edit Fields Info: null
Ownership Based AccessControl For Rasters: null
Child Resources:
Info
Histograms
Statistics
Key Properties
Legend
Raster Function Infos
Supported Operations:
Export Image
Identify
Measure
Compute Histograms
Compute Statistics Histograms
Get Samples
Compute Class Statistics
Query Boundary
Compute Pixel Location
Compute Angles
Validate
Project