View In:
  ArcGIS JavaScript
  ArcGIS Online Map Viewer
  ArcGIS Earth
Service Description:  Aquatics/Nearshore_img_AdmiraltyIn_2022
Name:  Aquatics/Nearshore_img_AdmiraltyIn_2022
Description:  
Single Fused Map Cache:  false
Extent: 
XMin: 1077000.0
YMin: 904200.0
XMax: 1199200.0
YMax: 1052400.0
Spatial Reference: 2927
 (2927)
 LatestVCSWkid(0)
Initial Extent: 
XMin: 1077000.0
YMin: 904200.0
XMax: 1199200.0
YMax: 1052400.0
Spatial Reference: 2927
 (2927)
 LatestVCSWkid(0)
Full Extent: 
XMin: 1077000.0
YMin: 904200.0
XMax: 1199200.0
YMax: 1052400.0
Spatial Reference: 2927
 (2927)
 LatestVCSWkid(0)
Pixel Size X:  0.5
Pixel Size Y:  0.5
Band Count: 5
Pixel Type: U8
RasterFunction Infos:  {"rasterFunctionInfos": [{
 "name": "None",
 "description": "",
 "help": ""
}]}
Mensuration Capabilities: Basic
Inspection Capabilities: 
Has Histograms:  true
Has Colormap:  false
Has Multi Dimensions :  false
Rendering Rule: 
Min Scale:  0
Max Scale:  0
Copyright Text:  
Service Data Type:  esriImageServiceDataTypeGeneric
Min Values:  0, 0, 0, 0, 255
Max Values:  254, 254, 254, 254, 255
Mean Values:  34.228956912359, 53.933476249044, 69.284238961656, 44.56329322399, 255
Standard Deviation Values:  26.916452511511, 24.302073258108, 19.898238460856, 56.295583833837, 0
Object ID Field:  
Fields: 
None
Default Mosaic Method:  Center
Allowed Mosaic Methods:  
SortField:  
SortValue:  null
Mosaic Operator:  First
Default Compression Quality:  75
Default Resampling Method:  Bilinear
Max Record Count:  null
Max Image Height:  4100
Max Image Width:  15000
Max Download Image Count:  null
Max Mosaic Image Count:  null
Allow Raster Function:  true
Allow Copy:  true
Allow Analysis:  true
Allow Compute TiePoints:  false
Supports Statistics:  false
Supports Advanced Queries:  false
Use StandardizedQueries:  true
Raster Type Infos: 
Name: Raster Dataset
Description: Supports all ArcGIS Raster Datasets
Help: 
Has Raster Attribute Table:  false
Edit Fields Info:  null
Ownership Based AccessControl For Rasters:  null
Child Resources:
  
Info
  Histograms
  Statistics
  Key Properties
  Legend
  Raster Function Infos
Supported Operations:
  
Export Image
  Identify
  Measure
  Compute Histograms
  Compute Statistics Histograms
  Get Samples
  Compute Class Statistics
  Query Boundary
  Compute Pixel Location
  Compute Angles
  Validate
  Project