{ "currentVersion": 11.3, "serviceDescription": "

For the purposes of research and monitoring in marine environments, elevation data is typically most useful when it is expressed relative to tidal rather than orthometric vertical datums. For example, the potential habitat depth of submerged aquatic vegetation is often expressed as a range relative to mean lower low water (MLLW), representing the specific light requirements of each species. This MLLW bathymetric model (elevation values in meters) of the southern Salish Sea is based on the USGS CoNED topobathymetric digital elevation models of Puget Sound (OCM Partners, 2022a) and the Strait of Juan de Fuca (OCM Partners, 2022b), converted from NAVD88 to MLLW using NOAA\u2019s VDatum 4.6.1 transformation grids (Office of Coast Survey, 2023), and projected onto NAD 1983 HARN StatePlane Washington South FIPS 4602. For more information, contact Tyler Cowdrey, WA DNR, Nearshore Habitat Program at: tyler.cowdrey@dnr.wa.gov or nearshore@dnr.wa.gov. <\/SPAN><\/P>
<\/P>
Suggested citation: Cowdrey, T. (2024). Washington State USGS CoNED MLLW Bathymetric DEM [Data Set]. Washington State Department of Natural Resources, Nearshore Habitat Program. [https://gis.dnr.wa.gov/image/rest/services/Aquatics/WA_bathymetry_CoNED_MLLW/ImageServer]. <\/SPAN><\/P>
<\/P>
The values of MLLW in this model were generated using source and intermediate data products with significant interpolation and are intended for informational and research purposes only. This product has not been reviewed by a licensed surveyor and should not be used in place of professional surveys for the assessment of tideland parcel boundaries. This product should not be used for navigation. WA DNR makes no warranties about the accuracy of this product. <\/SPAN><\/P>
<\/P>
Rough processing workflow: <\/SPAN><\/SPAN><\/P>
CoNED tiles were bulk downloaded in GeoTIFF format from NOAA Digital Coast (https://coast.noaa.gov/htdata/raster2/elevation/). VDatum 4.6.1 was used to generate NAVD88 to MLLW transformation grids at a resolution of ~0.0002 degrees in ITRF14, which were were then combined and projected onto NAD 1983 (2011) UTM 10N and resampled at 1 meter resolution (snapped to CoNED) using bilinear interpolation. The combined grid was then used to batch transform CoNED tiles from NAVD88 to MLLW using ArcPy maintaining extent, PCS, cell size and snap raster. The new CoNED MLLW tiles were mosaicked and projected onto NAD 1983 HARN StatePlane Washington South FIPS 4602 (SPWAS) as a continuous raster to prevent tile discontinuities. Finally, the continuous CoNED MLLW SPWAS raster was re-tiled, tiles were named by row and column, and pixel values above 10 meters of elevation were removed to improve the reliability of the final product for marine applications. <\/SPAN><\/P>
<\/P>
References: <\/SPAN><\/P>
OCM Partners. 2022a. 1887 - 2017 USGS CoNED Topobathy DEM (Compiled 2020): Puget Sound, WA. NOAA National Centers for Environmental Information. <\/SPAN>https://www.fisheries.noaa.gov/inport/item/59971<\/SPAN><\/A>. <\/SPAN><\/P>
<\/P>
OCM Partners. 2022b. 1891 - 2016 USGS CoNED Topobathy DEM (Compiled 2021): Strait of Juan de Fuca, WA. NOAA National Centers for Environmental Information. <\/SPAN>https://www.fisheries.noaa.gov/inport/item/65169<\/SPAN><\/A>. <\/SPAN><\/P>
<\/P>
Office of Coast Survey, N.O.A.A., U.S. Department of Commerce. 2023. Vertical Datum Transformation (VDatum 4.6.1). <\/SPAN>https://vdatum.noaa.gov/download.php<\/SPAN><\/A><\/SPAN><\/P><\/DIV><\/DIV><\/DIV>", "name": "Aquatics/WA_bathymetry_CoNED_hillshade", "description": "

For the purposes of research and monitoring in marine environments, elevation data is typically most useful when it is expressed relative to tidal rather than orthometric vertical datums. For example, the potential habitat depth of submerged aquatic vegetation is often expressed as a range relative to mean lower low water (MLLW), representing the specific light requirements of each species. This MLLW bathymetric model (elevation values in meters) of the southern Salish Sea is based on the USGS CoNED topobathymetric digital elevation models of Puget Sound (OCM Partners, 2022a) and the Strait of Juan de Fuca (OCM Partners, 2022b), converted from NAVD88 to MLLW using NOAA\u2019s VDatum 4.6.1 transformation grids (Office of Coast Survey, 2023), and projected onto NAD 1983 HARN StatePlane Washington South FIPS 4602. For more information, contact Tyler Cowdrey, WA DNR, Nearshore Habitat Program at: tyler.cowdrey@dnr.wa.gov or nearshore@dnr.wa.gov. <\/SPAN><\/P>
<\/P>
Suggested citation: Cowdrey, T. (2024). Washington State USGS CoNED MLLW Bathymetric DEM [Data Set]. Washington State Department of Natural Resources, Nearshore Habitat Program. [https://gis.dnr.wa.gov/image/rest/services/Aquatics/WA_bathymetry_CoNED_MLLW/ImageServer]. <\/SPAN><\/P>
<\/P>
The values of MLLW in this model were generated using source and intermediate data products with significant interpolation and are intended for informational and research purposes only. This product has not been reviewed by a licensed surveyor and should not be used in place of professional surveys for the assessment of tideland parcel boundaries. This product should not be used for navigation. WA DNR makes no warranties about the accuracy of this product. <\/SPAN><\/P>
<\/P>
Rough processing workflow: <\/SPAN><\/SPAN><\/P>
CoNED tiles were bulk downloaded in GeoTIFF format from NOAA Digital Coast (https://coast.noaa.gov/htdata/raster2/elevation/). VDatum 4.6.1 was used to generate NAVD88 to MLLW transformation grids at a resolution of ~0.0002 degrees in ITRF14, which were were then combined and projected onto NAD 1983 (2011) UTM 10N and resampled at 1 meter resolution (snapped to CoNED) using bilinear interpolation. The combined grid was then used to batch transform CoNED tiles from NAVD88 to MLLW using ArcPy maintaining extent, PCS, cell size and snap raster. The new CoNED MLLW tiles were mosaicked and projected onto NAD 1983 HARN StatePlane Washington South FIPS 4602 (SPWAS) as a continuous raster to prevent tile discontinuities. Finally, the continuous CoNED MLLW SPWAS raster was re-tiled, tiles were named by row and column, and pixel values above 10 meters of elevation were removed to improve the reliability of the final product for marine applications. <\/SPAN><\/P>
<\/P>
References: <\/SPAN><\/P>
OCM Partners. 2022a. 1887 - 2017 USGS CoNED Topobathy DEM (Compiled 2020): Puget Sound, WA. NOAA National Centers for Environmental Information. <\/SPAN>https://www.fisheries.noaa.gov/inport/item/59971<\/SPAN><\/A>. <\/SPAN><\/P>
<\/P>
OCM Partners. 2022b. 1891 - 2016 USGS CoNED Topobathy DEM (Compiled 2021): Strait of Juan de Fuca, WA. NOAA National Centers for Environmental Information. <\/SPAN>https://www.fisheries.noaa.gov/inport/item/65169<\/SPAN><\/A>. <\/SPAN><\/P>
<\/P>
Office of Coast Survey, N.O.A.A., U.S. Department of Commerce. 2023. Vertical Datum Transformation (VDatum 4.6.1). <\/SPAN>https://vdatum.noaa.gov/download.php<\/SPAN><\/A><\/SPAN><\/P><\/DIV><\/DIV><\/DIV>", "extent": { "xmin": 164401.32626567216, "ymin": 189046.13700328115, "xmax": 377393.32626567216, "ymax": 418422.13700328115, "spatialReference": { "wkid": 102349, "latestWkid": 2856, "vcsWkid": 5703, "latestVcsWkid": 5703 } }, "initialExtent": { "xmin": 164401.32626567216, "ymin": 189046.13700328115, "xmax": 377393.32626567216, "ymax": 418422.13700328115, "spatialReference": { "wkid": 102349, "latestWkid": 2856, "vcsWkid": 5703, "latestVcsWkid": 5703 } }, "fullExtent": { "xmin": 164401.32626567216, "ymin": 189046.13700328115, "xmax": 377393.32626567216, "ymax": 418422.13700328115, "spatialReference": { "wkid": 102349, "latestWkid": 2856, "vcsWkid": 5703, "latestVcsWkid": 5703 } }, "sortableFields": "", "heightModelInfo": { "heightModel": "gravity_related_height", "vertCRS": "NAVD_1988", "heightUnit": "meter" }, "bandCount": 1, "pixelType": "U8", "minValues": [ 0 ], "maxValues": [ 254 ], "meanValues": [ 179.78002968312 ], "stdvValues": [ 11.7015007778 ], "hasMultidimensions": false, "pixelSizeX": 1, "pixelSizeY": 1, "meanPixelSize": 1, "datasetFormat": "TIFF", "uncompressedSize": 48855252992, "blockWidth": 128, "blockHeight": 128, "compressionType": "LZW", "bandNames": [ "Band_1" ], "allowCopy": true, "allowAnalysis": true, "itemAccess": false, "inspectionCapabilities": "", "noDataValue": 255, "noDataValues": [ 255 ], "minPixelSize": 0, "maxPixelSize": 0, "copyrightText": "USGS CoNED. NOAA VDatum. Processed by Tyler Cowdrey, WA State Department of Natural Resources (WA DNR), Nearshore Habitat Program, 2024.", "serviceDataType": "esriImageServiceDataTypeProcessed", "serviceSourceType": "esriImageServiceSourceTypeDataset", "objectIdField": "", "fields": [], "capabilities": "Image,Metadata,Mensuration", "defaultMosaicMethod": "Center", "allowedMosaicMethods": "", "sortField": "", "sortValue": null, "sortAscending": true, "mosaicOperator": "First", "defaultCompressionQuality": 75, "defaultResamplingMethod": "Bilinear", "maxImageHeight": 4100, "maxImageWidth": 15000, "allowRasterFunction": true, "rasterFunctionInfos": [ { "name": "None", "description": "", "help": "" } ], "rasterTypeInfos": [ { "name": "Raster Dataset", "description": "Supports all ArcGIS Raster Datasets", "help": "" } ], "mensurationCapabilities": "Basic", "hasHistograms": true, "hasColormap": false, "hasRasterAttributeTable": false, "minScale": 0, "maxScale": 0, "exportTilesAllowed": false, "supportsStatistics": false, "supportsAdvancedQueries": false, "editFieldsInfo": null, "ownershipBasedAccessControlForRasters": null, "allowComputeTiePoints": false, "useStandardizedQueries": true, "advancedQueryCapabilities": { "useStandardizedQueries": true, "supportsStatistics": false, "supportsOrderBy": false, "supportsDistinct": false, "supportsPagination": false }, "spatialReference": { "wkid": 102349, "latestWkid": 2856, "vcsWkid": 5703, "latestVcsWkid": 5703 } }