{ "currentVersion": 11.3, "serviceDescription": "
This aerial imagery mosaic was collected on behalf of the Washington State Department of Natural Resources (WA DNR) by NV5 as part of a program to map the annual extent of floating kelp canopies in Washington State. There are two species of floating kelp in Washington: bull kelp (Nereocystis luetkeana; found in all surveyed areas) and giant kelp (Macrocystis pyrifera; found along the Pacific coast and Strait of Juan de Fuca). Floating kelp forests provide essential habitat for many marine species and are culturally and economically significant in the Northeast Pacific and around the world. Areas surveyed with aerial imagery in 2024 include the US side of the Strait of Juan de Fuca, Northern Pacific Coast, Admiralty Inlet, North Puget Sound, the San Juan Islands, Saratoga Passage and the Whidbey Island Basin, WA DNR managed Aquatic Reserves (Cherry Point AR, Cypress Island AR, and Smith & Minor Islands AR), and the Tacoma Narrows. Aerial surveys were conducted between August and September during low-tide, slack-current conditions identified by WA DNR as optimal for kelp forest monitoring. This imagery has four spectral bands (Band_1 = red, Band_2 = green, Band_3 = blue, Band_4 = near-infrared) plus an alpha channel (Band_5), and was collected at 6-inch spatial resolution. A full report summarizing collection methods can be found <\/SPAN>here<\/SPAN><\/A>. Floating kelp canopies can be readily visualized using an \u201cNGB\u201d band combination (near-infrared, green, blue) but can also be seen in many places with standard RGB imagery (red, green, blue). Floating kelp distribution data generated based on this imagery supports WA DNR's long-term <\/SPAN>kelp forest monitoring<\/SPAN><\/A> goals and mandate to ensure environmental protection of state-owned aquatic lands. Imagery from this project is publicly distributed in compressed (lossy) MrSID format for accessibility and efficient visualization, and is therefore not suitable for image classification and analysis. Please contact the WA DNR Nearshore Habitat Program about other data products that are available to be shared. <\/SPAN><\/P> <\/P> For more information and inquiries about products available at specific locations, please contact Danielle Claar, WA DNR, Nearshore Habitat Program at: <\/SPAN>danielle.claar@dnr.wa.gov<\/SPAN><\/A> or <\/SPAN>nearshore@dnr.wa.gov<\/SPAN><\/A>.<\/SPAN><\/P><\/DIV><\/DIV><\/DIV>",
"name": "Aquatics/Nearshore_img_WestStraitJdF_2024",
"description": "",
"extent": {
"xmin": 607100,
"ymin": 1045050,
"xmax": 851500,
"ymax": 1146450,
"spatialReference": {
"wkid": 2927,
"latestWkid": 2927
}
},
"initialExtent": {
"xmin": 607100,
"ymin": 1045050,
"xmax": 851500,
"ymax": 1146450,
"spatialReference": {
"wkid": 2927,
"latestWkid": 2927
}
},
"fullExtent": {
"xmin": 607100,
"ymin": 1045050,
"xmax": 851500,
"ymax": 1146450,
"spatialReference": {
"wkid": 2927,
"latestWkid": 2927
}
},
"sortableFields": "",
"bandCount": 5,
"pixelType": "U8",
"minValues": [
1,
1,
1,
1,
0
],
"maxValues": [
254,
254,
254,
254,
255
],
"meanValues": [
27.883119754047,
48.653510871596,
64.409289059745,
26.534814190679,
18.283924610536
],
"stdvValues": [
14.552624446913,
13.914643851622,
10.420574380395,
31.808413801478,
65.788288293333
],
"hasMultidimensions": false,
"pixelSizeX": 0.5,
"pixelSizeY": 0.5,
"meanPixelSize": 0.15240030480060962,
"datasetFormat": "MrSID",
"uncompressedSize": 495643200000,
"blockWidth": 1024,
"blockHeight": 128,
"compressionType": "Wavelet (MG4)",
"bandNames": [
"Band_1",
"Band_2",
"Band_3",
"Band_4",
"Band_5"
],
"allowCopy": true,
"allowAnalysis": true,
"itemAccess": false,
"inspectionCapabilities": "",
"noDataValue": 255,
"noDataValues": [
255,
255,
255,
255,
256
],
"minPixelSize": 0,
"maxPixelSize": 0,
"copyrightText": "This imagery was collected and processed for the WA State Department of Natural Resources Nearshore Habitat Program by NV5 Geospatial. 2025.",
"serviceDataType": "esriImageServiceDataTypeGeneric",
"serviceSourceType": "esriImageServiceSourceTypeDataset",
"objectIdField": "",
"fields": [],
"capabilities": "Image,Metadata,Mensuration",
"defaultMosaicMethod": "Center",
"allowedMosaicMethods": "",
"sortField": "",
"sortValue": null,
"sortAscending": true,
"mosaicOperator": "First",
"defaultCompressionQuality": 75,
"defaultResamplingMethod": "Bilinear",
"maxImageHeight": 4100,
"maxImageWidth": 15000,
"allowRasterFunction": true,
"rasterFunctionInfos": [
{
"name": "None",
"description": "",
"help": ""
}
],
"rasterTypeInfos": [
{
"name": "Raster Dataset",
"description": "Supports all ArcGIS Raster Datasets",
"help": ""
}
],
"mensurationCapabilities": "Basic",
"hasHistograms": true,
"hasColormap": false,
"hasRasterAttributeTable": false,
"minScale": 0,
"maxScale": 0,
"exportTilesAllowed": false,
"supportsStatistics": false,
"supportsAdvancedQueries": false,
"editFieldsInfo": null,
"ownershipBasedAccessControlForRasters": null,
"allowComputeTiePoints": false,
"useStandardizedQueries": true,
"advancedQueryCapabilities": {
"useStandardizedQueries": true,
"supportsStatistics": false,
"supportsOrderBy": false,
"supportsDistinct": false,
"supportsPagination": false
},
"spatialReference": {
"wkid": 2927,
"latestWkid": 2927
}
}