{
 "currentVersion": 11.3,
 "serviceDescription": "Aquatics/Nearshore_img_WestStraitJdF_2023",
 "name": "Aquatics/Nearshore_img_WestStraitJdF_2023",
 "description": "",
 "extent": {
  "xmin": 607100,
  "ymin": 1045050,
  "xmax": 851500,
  "ymax": 1146450,
  "spatialReference": {
   "wkid": 2927,
   "latestWkid": 2927
  }
 },
 "initialExtent": {
  "xmin": 607100,
  "ymin": 1045050,
  "xmax": 851500,
  "ymax": 1146450,
  "spatialReference": {
   "wkid": 2927,
   "latestWkid": 2927
  }
 },
 "fullExtent": {
  "xmin": 607100,
  "ymin": 1045050,
  "xmax": 851500,
  "ymax": 1146450,
  "spatialReference": {
   "wkid": 2927,
   "latestWkid": 2927
  }
 },
 "sortableFields": "",
 "bandCount": 5,
 "pixelType": "U8",
 "minValues": [
  8,
  17,
  23,
  8,
  0
 ],
 "maxValues": [
  254,
  254,
  254,
  254,
  255
 ],
 "meanValues": [
  34.098484719748,
  57.362656896191,
  68.875285562579,
  51.359811203551,
  18.283924610537
 ],
 "stdvValues": [
  21.304180021652,
  20.081550286036,
  15.423416777295,
  47.192750039991,
  65.788288293333
 ],
 "hasMultidimensions": false,
 "pixelSizeX": 0.5,
 "pixelSizeY": 0.5,
 "meanPixelSize": 0.15240030480060962,
 "datasetFormat": "MrSID",
 "uncompressedSize": 495643200000,
 "blockWidth": 1024,
 "blockHeight": 128,
 "compressionType": "Wavelet (MG4)",
 "bandNames": [
  "Band_1",
  "Band_2",
  "Band_3",
  "Band_4",
  "Band_5"
 ],
 "allowCopy": true,
 "allowAnalysis": true,
 "itemAccess": false,
 "inspectionCapabilities": "",
 "noDataValue": 255,
 "noDataValues": [
  255,
  255,
  255,
  255,
  256
 ],
 "minPixelSize": 0,
 "maxPixelSize": 0,
 "copyrightText": "",
 "serviceDataType": "esriImageServiceDataTypeGeneric",
 "serviceSourceType": "esriImageServiceSourceTypeDataset",
 "objectIdField": "",
 "fields": [],
 "capabilities": "Image,Metadata,Mensuration",
 "defaultMosaicMethod": "Center",
 "allowedMosaicMethods": "",
 "sortField": "",
 "sortValue": null,
 "sortAscending": true,
 "mosaicOperator": "First",
 "defaultCompressionQuality": 75,
 "defaultResamplingMethod": "Bilinear",
 "maxImageHeight": 4100,
 "maxImageWidth": 15000,
 "allowRasterFunction": true,
 "rasterFunctionInfos": [
  {
   "name": "None",
   "description": "",
   "help": ""
  }
 ],
 "rasterTypeInfos": [
  {
   "name": "Raster Dataset",
   "description": "Supports all ArcGIS Raster Datasets",
   "help": ""
  }
 ],
 "mensurationCapabilities": "Basic",
 "hasHistograms": true,
 "hasColormap": false,
 "hasRasterAttributeTable": false,
 "minScale": 0,
 "maxScale": 0,
 "exportTilesAllowed": false,
 "supportsStatistics": false,
 "supportsAdvancedQueries": false,
 "editFieldsInfo": null,
 "ownershipBasedAccessControlForRasters": null,
 "allowComputeTiePoints": false,
 "useStandardizedQueries": true,
 "advancedQueryCapabilities": {
  "useStandardizedQueries": true,
  "supportsStatistics": false,
  "supportsOrderBy": false,
  "supportsDistinct": false,
  "supportsPagination": false
 },
 "spatialReference": {
  "wkid": 2927,
  "latestWkid": 2927
 }
}
