{
 "currentVersion": 11.3,
 "serviceDescription": "Aquatics/Nearshore_img_NPugetSound_2023",
 "name": "Aquatics/Nearshore_img_NPugetSound_2023",
 "description": "",
 "extent": {
  "xmin": 1098600,
  "ymin": 1093100,
  "xmax": 1176600,
  "ymax": 1277700,
  "spatialReference": {
   "wkid": 2927,
   "latestWkid": 2927
  }
 },
 "initialExtent": {
  "xmin": 1098600,
  "ymin": 1093100,
  "xmax": 1176600,
  "ymax": 1277700,
  "spatialReference": {
   "wkid": 2927,
   "latestWkid": 2927
  }
 },
 "fullExtent": {
  "xmin": 1098600,
  "ymin": 1093100,
  "xmax": 1176600,
  "ymax": 1277700,
  "spatialReference": {
   "wkid": 2927,
   "latestWkid": 2927
  }
 },
 "sortableFields": "",
 "bandCount": 5,
 "pixelType": "U8",
 "minValues": [
  0,
  3,
  8,
  0,
  0
 ],
 "maxValues": [
  254,
  254,
  254,
  254,
  255
 ],
 "meanValues": [
  34.531531880179,
  51.888001216067,
  59.82002394606,
  45.431132397054,
  109.09523932072
 ],
 "stdvValues": [
  21.463465182822,
  19.365856621754,
  14.99842199265,
  43.464134449036,
  126.16463365228
 ],
 "hasMultidimensions": false,
 "pixelSizeX": 0.5,
 "pixelSizeY": 0.5,
 "meanPixelSize": 0.15240030480060962,
 "datasetFormat": "MrSID",
 "uncompressedSize": 287976000000,
 "blockWidth": 1024,
 "blockHeight": 128,
 "compressionType": "Wavelet (MG4)",
 "bandNames": [
  "Band_1",
  "Band_2",
  "Band_3",
  "Band_4",
  "Band_5"
 ],
 "allowCopy": true,
 "allowAnalysis": true,
 "itemAccess": false,
 "inspectionCapabilities": "",
 "noDataValue": 255,
 "noDataValues": [
  255,
  255,
  255,
  255,
  256
 ],
 "minPixelSize": 0,
 "maxPixelSize": 0,
 "copyrightText": "",
 "serviceDataType": "esriImageServiceDataTypeGeneric",
 "serviceSourceType": "esriImageServiceSourceTypeDataset",
 "objectIdField": "",
 "fields": [],
 "capabilities": "Image,Metadata,Mensuration",
 "defaultMosaicMethod": "Center",
 "allowedMosaicMethods": "",
 "sortField": "",
 "sortValue": null,
 "sortAscending": true,
 "mosaicOperator": "First",
 "defaultCompressionQuality": 75,
 "defaultResamplingMethod": "Bilinear",
 "maxImageHeight": 4100,
 "maxImageWidth": 15000,
 "allowRasterFunction": true,
 "rasterFunctionInfos": [
  {
   "name": "None",
   "description": "",
   "help": ""
  }
 ],
 "rasterTypeInfos": [
  {
   "name": "Raster Dataset",
   "description": "Supports all ArcGIS Raster Datasets",
   "help": ""
  }
 ],
 "mensurationCapabilities": "Basic",
 "hasHistograms": true,
 "hasColormap": false,
 "hasRasterAttributeTable": false,
 "minScale": 0,
 "maxScale": 0,
 "exportTilesAllowed": false,
 "supportsStatistics": false,
 "supportsAdvancedQueries": false,
 "editFieldsInfo": null,
 "ownershipBasedAccessControlForRasters": null,
 "allowComputeTiePoints": false,
 "useStandardizedQueries": true,
 "advancedQueryCapabilities": {
  "useStandardizedQueries": true,
  "supportsStatistics": false,
  "supportsOrderBy": false,
  "supportsDistinct": false,
  "supportsPagination": false
 },
 "spatialReference": {
  "wkid": 2927,
  "latestWkid": 2927
 }
}
